BEGIN:VCALENDAR
VERSION:2.0
PRODID:-//Canton of Charlesbury Crossing - ECPv6.15.20//NONSGML v1.0//EN
CALSCALE:GREGORIAN
METHOD:PUBLISH
X-WR-CALNAME:Canton of Charlesbury Crossing
X-ORIGINAL-URL:https://charlesbury.atlantia.sca.org
X-WR-CALDESC:Events for Canton of Charlesbury Crossing
REFRESH-INTERVAL;VALUE=DURATION:PT1H
X-Robots-Tag:noindex
X-PUBLISHED-TTL:PT1H
BEGIN:VTIMEZONE
TZID:America/New_York
BEGIN:DAYLIGHT
TZOFFSETFROM:-0500
TZOFFSETTO:-0400
TZNAME:EDT
DTSTART:20220313T070000
END:DAYLIGHT
BEGIN:STANDARD
TZOFFSETFROM:-0400
TZOFFSETTO:-0500
TZNAME:EST
DTSTART:20221106T060000
END:STANDARD
BEGIN:DAYLIGHT
TZOFFSETFROM:-0500
TZOFFSETTO:-0400
TZNAME:EDT
DTSTART:20230312T070000
END:DAYLIGHT
BEGIN:STANDARD
TZOFFSETFROM:-0400
TZOFFSETTO:-0500
TZNAME:EST
DTSTART:20231105T060000
END:STANDARD
BEGIN:DAYLIGHT
TZOFFSETFROM:-0500
TZOFFSETTO:-0400
TZNAME:EDT
DTSTART:20240310T070000
END:DAYLIGHT
BEGIN:STANDARD
TZOFFSETFROM:-0400
TZOFFSETTO:-0500
TZNAME:EST
DTSTART:20241103T060000
END:STANDARD
BEGIN:DAYLIGHT
TZOFFSETFROM:-0500
TZOFFSETTO:-0400
TZNAME:EDT
DTSTART:20250309T070000
END:DAYLIGHT
BEGIN:STANDARD
TZOFFSETFROM:-0400
TZOFFSETTO:-0500
TZNAME:EST
DTSTART:20251102T060000
END:STANDARD
BEGIN:DAYLIGHT
TZOFFSETFROM:-0500
TZOFFSETTO:-0400
TZNAME:EDT
DTSTART:20260308T070000
END:DAYLIGHT
BEGIN:STANDARD
TZOFFSETFROM:-0400
TZOFFSETTO:-0500
TZNAME:EST
DTSTART:20261101T060000
END:STANDARD
END:VTIMEZONE
BEGIN:VEVENT
DTSTART;TZID=America/New_York:20250119T110000
DTEND;TZID=America/New_York:20250119T150000
DTSTAMP:20260419T185202
CREATED:20241125T191523Z
LAST-MODIFIED:20241125T191603Z
UID:879-1737284400-1737298800@charlesbury.atlantia.sca.org
SUMMARY:Medieval Gathering in the Park
DESCRIPTION:Come join us for fun and comradery at Freedom Park! \nDirections:\nYour location to 35.1964346\, -80.8386628 – Google Maps \nTake your best route to the Freedom Park entrance located off of East Boulevard. \nDepending on number of attendees and other activities in the park\, we will be located off of the parking lot that is in front of the train.
URL:https://charlesbury.atlantia.sca.org/event/medieval-gathering-in-the-park/
LOCATION:Freedom Park\, NC\, United States
CATEGORIES:armored practice,arts & sciences,demo,populace
ATTACH;FMTTYPE=image/gif:https://charlesbury.atlantia.sca.org/wp-content/uploads/2019/11/baj-mar.gif
ORGANIZER;CN="Canton Knights Marshal":MAILTO:armored@charlesbury.atlantia.sca.org
END:VEVENT
BEGIN:VEVENT
DTSTART;TZID=America/New_York:20240831T110000
DTEND;TZID=America/New_York:20240831T170000
DTSTAMP:20260419T185202
CREATED:20240703T174658Z
LAST-MODIFIED:20240814T160150Z
UID:859-1725102000-1725123600@charlesbury.atlantia.sca.org
SUMMARY:Silks\, Scrolls\, and Stitches
DESCRIPTION:Come one\, come all to the Mullins Crafting Hall! ( a/k/a Tammy and Dustin’s house) We will be learning to paint on silk to make banners and other fine things. We will also work on creating scrolls at the request of our beloved Baroness Azza. Many expert seamstresses will be at the event so bring any garb or sewing projects you are working on to get advice and assistance. Do you have a woodworking project you need assistance with? Expert woodworkers will also be there! Please bring any paint supplies and scribing supplies you have\, and bring supplies for any individual projects you will be working on.\nFinally\, please bring a dish to share with the group so that we can feast while we work.
URL:https://charlesbury.atlantia.sca.org/event/birthday-and-banners/
LOCATION:Amira and Torquil’s\, 1729 Rue De Ville\, Rock Hill\, SC\, 29732\, United States
CATEGORIES:arts & sciences,populace
ATTACH;FMTTYPE=image/gif:https://charlesbury.atlantia.sca.org/wp-content/uploads/2019/11/baj-ans.gif
END:VEVENT
BEGIN:VEVENT
DTSTART;TZID=America/New_York:20240309T130000
DTEND;TZID=America/New_York:20240309T180000
DTSTAMP:20260419T185202
CREATED:20240304T232002Z
LAST-MODIFIED:20240304T232002Z
UID:846-1709989200-1710007200@charlesbury.atlantia.sca.org
SUMMARY:Cheese\, canopies\, cheers\, and now chairs!
DESCRIPTION:At this Arts and Sciences Event\, we will be making cheese\, beautifying our Canton’s gathering day-shades\, making folding wooden stools\, and sharing good cheer with our Canton members and friends. Please bring a snack to share with the group and bring your favorite beverage. If you wish to participate in the cheese making\, please bring your own container or containers to carry your cheeses home\, and see the below list of ingredients.\nWe will be making 3 different cheeses during the day\, Mozzarella\, Ricotta\, and Cream Cheese. Each cheese only takes about 30 minutes to make\, so cheese lovers will be able to make all three at this event.\nMozzarella- 1 gallon of whole milk (cannot be ultra-pasteurized)*\nRicotta Cheese- This is made from the whey left from making the mozzarella cheese. However\, you will need an additional ¼ of a gallon of whole milk (cannot be ultra-pasteurized)* for the Ricotta.\nCream Cheese- Need 1 gallon of whole milk (cannot be ultra-pasteurized)*\n* Most of your local supermarkets only carry ultra-pasteurized milk. You can find the non-ultra pasteurized in stores like Whole Foods and Earth Fare. Also\, you can use raw milk for a creamier cheese. Sometimes\, the Peach Stand in Fort Mill\, SC has raw milk available for sale.\nWe will also need acrylic paints in the colors white\, yellow\, blue\, green and black for the day-shade decorations. Please wear old clothes that you do not mind getting paint on because this activity could get messy!\nThere is a separate posting that contains all of the information you will need if you want to create a traveling stool. Scroll through and find that information because you’re going to want to make a couple of these to take with you to your next event!\nThis event is very graciously hosted at the home of Torquil & Amira (Dusty and Tammy Mullins). Thank you Torquil and Amira!
URL:https://charlesbury.atlantia.sca.org/event/cheese-canopies-cheers-and-now-chairs/
LOCATION:Amira and Torquil’s\, 1729 Rue De Ville\, Rock Hill\, SC\, 29732\, United States
CATEGORIES:arts & sciences,populace
ATTACH;FMTTYPE=image/gif:https://charlesbury.atlantia.sca.org/wp-content/uploads/2019/11/device3.gif
END:VEVENT
BEGIN:VEVENT
DTSTART;TZID=America/New_York:20230813T130000
DTEND;TZID=America/New_York:20230813T180000
DTSTAMP:20260419T185202
CREATED:20230722T192612Z
LAST-MODIFIED:20230722T192703Z
UID:827-1691931600-1691949600@charlesbury.atlantia.sca.org
SUMMARY:Garb Workshop
DESCRIPTION:Do you need help patterning\, sewing\, or fitting your garb? We’re here to help you with Italian Renaissance clothing (and other countries / time periods as requested).\nBring patterning fabric (if needed)\, pins\, plus paper and pen to take notes.\nPlease bring a snack to share.
URL:https://charlesbury.atlantia.sca.org/event/garb-workshop/
LOCATION:Amira and Torquil’s\, 1729 Rue De Ville\, Rock Hill\, SC\, 29732\, United States
CATEGORIES:arts & sciences,populace
ATTACH;FMTTYPE=image/gif:https://charlesbury.atlantia.sca.org/wp-content/uploads/2019/11/device3.gif
END:VEVENT
BEGIN:VEVENT
DTSTART;TZID=America/New_York:20230709T100000
DTEND;TZID=America/New_York:20230709T160000
DTSTAMP:20260419T185202
CREATED:20230703T112021Z
LAST-MODIFIED:20230703T112043Z
UID:816-1688896800-1688918400@charlesbury.atlantia.sca.org
SUMMARY:Largess Making Workshop
DESCRIPTION:Come and work together to create largess for the Baronial Birthday competition. Supplies will be available for tassels\, 1-decade rosaries\, and leather bookmarks. Feel free to bring supplies for other largess items.
URL:https://charlesbury.atlantia.sca.org/event/largess-making-workshop/
LOCATION:Amira and Torquil’s\, 1729 Rue De Ville\, Rock Hill\, SC\, 29732\, United States
CATEGORIES:arts & sciences,populace
ATTACH;FMTTYPE=image/gif:https://charlesbury.atlantia.sca.org/wp-content/uploads/2019/11/device3.gif
END:VEVENT
BEGIN:VEVENT
DTSTART;TZID=America/New_York:20230520T130000
DTEND;TZID=America/New_York:20230520T170000
DTSTAMP:20260419T185202
CREATED:20230327T103016Z
LAST-MODIFIED:20230327T103016Z
UID:785-1684587600-1684602000@charlesbury.atlantia.sca.org
SUMMARY:Italian Renaissance Workshop
DESCRIPTION:Please contact Suzanne de la Ferte (aka Suzanne Booth) on FaceBook with questions about any specific garb you’d like help with.
URL:https://charlesbury.atlantia.sca.org/event/italian-renaissance-workshop/
LOCATION:Marshville\, 5912 Smith Town Rd\, Marshville\, NC\, 28103\, United States
CATEGORIES:arts & sciences
ATTACH;FMTTYPE=image/gif:https://charlesbury.atlantia.sca.org/wp-content/uploads/2019/11/baj-ans.gif
END:VEVENT
BEGIN:VEVENT
DTSTART;TZID=America/New_York:20230423T080000
DTEND;TZID=America/New_York:20230423T170000
DTSTAMP:20260419T185202
CREATED:20230403T201849Z
LAST-MODIFIED:20230403T201849Z
UID:795-1682236800-1682269200@charlesbury.atlantia.sca.org
SUMMARY:Sacred Stone Baronial Business Meeting
DESCRIPTION:This month’s baronial meeting is being held in Ramsey Creek Park’s Shelter #1. The meeting doesn’t start until 2pm\, but we have the shelter reserved from 7am until sunset.\n\nIf you want to discuss anything at the meeting\, let our Seneschal (mka Tim White) know.\nShelter #1: This Medium Outdoor Shelter is located near to the dog park. The Shelter can hold up to 40 people and has the following amenities: charcoal grill\, electrical outlet\, playground\, walking trails\, Lake Norman access\, and restrooms nearby.
URL:https://charlesbury.atlantia.sca.org/event/sacred-stone-baronial-business-meeting/
LOCATION:Ramsey Creek Park\, 18441 Nantz Rd\, Cornelius\, North Carolina\, 28031
CATEGORIES:arts & sciences,populace
ATTACH;FMTTYPE=image/png:https://charlesbury.atlantia.sca.org/wp-content/uploads/2023/02/phoenix.png
END:VEVENT
END:VCALENDAR